BEGIN:VCALENDAR
VERSION:2.0
PRODID:-//Jura-Guide - ECPv5.14.1//NONSGML v1.0//EN
CALSCALE:GREGORIAN
METHOD:PUBLISH
X-WR-CALNAME:Jura-Guide
X-ORIGINAL-URL:http://jura-guide.com
X-WR-CALDESC:Veranstaltungen für Jura-Guide
BEGIN:VTIMEZONE
TZID:Europe/Berlin
BEGIN:DAYLIGHT
TZOFFSETFROM:+0100
TZOFFSETTO:+0200
TZNAME:CEST
DTSTART:20220327T010000
END:DAYLIGHT
BEGIN:STANDARD
TZOFFSETFROM:+0200
TZOFFSETTO:+0100
TZNAME:CET
DTSTART:20221030T010000
END:STANDARD
END:VTIMEZONE
BEGIN:VEVENT
DTSTART;TZID=Europe/Berlin:20220601T170000
DTEND;TZID=Europe/Berlin:20220601T210000
DTSTAMP:20260421T124218
CREATED:20220405T200256Z
LAST-MODIFIED:20220405T200334Z
UID:521-1654102800-1654117200@jura-guide.com
SUMMARY:A bieriga Fleckaronde
DESCRIPTION:Eine Entschleunigungs-Feierabendwanderung der „leckeren“ Art. Alle Wanderfreunde\, die auch mal ein gutes Bier beim Wandern vertragen\, sollten diese Tour rund um Grafenberg nicht verpassen. Auf einer ca. fünf Kilometer langen Feierabendrunde werden wir in den Genuss kommen\, regionale Biere in fröhlicher Wandergesellschaft und wunderschöner Landschaft zu verkosten. \nEs gibt Interessantes über die Herstellung von Bier sowie den regionalen Anbau der Bierzutaten zu erfahren. Regionales Bier von der Schwäbischen Alb und Fingerfood kann bei diesem Event erwandert und verkostet werden. Ein Abend füllender Genuss auf Schusters Rappen bringt Ihnen das Grundnahrungsmittel Bier näher. Weitere ProBiererla und was leckeres vom Grill runden diesen Abend an der Getränkehalle Grafenberg ab. An unseren „ProBierTankstellen gibt es auch alkoholfreie Getränke. \nDie Veranstaltung findet unter Einhaltung der geltenden Corona-Schutz- und Hygieneregeln statt.
URL:http://jura-guide.com/veranstaltung/a-bieriga-fleckaronde/
LOCATION:Grafenberg\, 72661\, Deutschland
CATEGORIES:Bieriger Albtraufgang
ATTACH;FMTTYPE=image/jpeg:http://jura-guide.com/wp-content/uploads/2022/04/DSC_0493-scaled.jpg
ORGANIZER;CN="Jura%20Guide":MAILTO:jura-guide@gmx.com
END:VEVENT
END:VCALENDAR