BEGIN:VCALENDAR
VERSION:2.0
PRODID:-//Jura-Guide - ECPv5.14.1//NONSGML v1.0//EN
CALSCALE:GREGORIAN
METHOD:PUBLISH
X-WR-CALNAME:Jura-Guide
X-ORIGINAL-URL:http://jura-guide.com
X-WR-CALDESC:Veranstaltungen für Jura-Guide
BEGIN:VTIMEZONE
TZID:Europe/Berlin
BEGIN:DAYLIGHT
TZOFFSETFROM:+0100
TZOFFSETTO:+0200
TZNAME:CEST
DTSTART:20250330T010000
END:DAYLIGHT
BEGIN:STANDARD
TZOFFSETFROM:+0200
TZOFFSETTO:+0100
TZNAME:CET
DTSTART:20251026T010000
END:STANDARD
END:VTIMEZONE
BEGIN:VEVENT
DTSTART;TZID=Europe/Berlin:20250409T150000
DTEND;TZID=Europe/Berlin:20250409T163000
DTSTAMP:20260421T142820
CREATED:20250407T161510Z
LAST-MODIFIED:20250407T161510Z
UID:630-1744210800-1744216200@jura-guide.com
SUMMARY:Auf den Spuren bedeutender Frauen in Tübingen
DESCRIPTION:Tübingen aus Frauenperspektive erleben\, Frauen-Orte kennen lernen und Frauen-Biographien entdecken – das bietet dieser Stadtrundgang durch verwunschene Ecken in der Tübinger Oberstadt.\nWie haben Frauen hier gelebt und gearbeitet und wie wird an sie erinnert?\nWir begegnen berühmten und vergessenen Frauen des 19. und 20. Jahrhunderts: Schriftstellerinnen\, Forscherinnen und Kirchenfrauen und interessieren uns dabei genauso wie der Bewegungsspielraum ‚einfacher‘ Frauen und Mädchen. \nBea Dörr vom baf e. V. Tübingen nimmt uns mit auf eine spannende Zeitreise.\nHerzlich willkommen in Tübingen! \nTeilnehmerbeitrag: Mitglieder des Schwäbischen Albvereins 8 € / Nichtmitglieder 16 € \nZur Info: Die anfallenden Kosten werden von der Wanderführerin vor Ort eingesammelt.chercher
URL:http://jura-guide.com/veranstaltung/auf-den-spuren-bedeutender-frauen-in-tuebingen/
LOCATION:Tübingen
ATTACH;FMTTYPE=image/jpeg:http://jura-guide.com/wp-content/uploads/2025/04/2025.04.09_FrauenSpecial-scaled.jpg
ORGANIZER;CN="Heimat-und%20Wanderakademie":MAILTO:akademie@schwaebischer-albverein.de
END:VEVENT
END:VCALENDAR