BEGIN:VCALENDAR
VERSION:2.0
PRODID:-//Jura-Guide - ECPv5.14.1//NONSGML v1.0//EN
CALSCALE:GREGORIAN
METHOD:PUBLISH
X-WR-CALNAME:Jura-Guide
X-ORIGINAL-URL:http://jura-guide.com
X-WR-CALDESC:Veranstaltungen für Jura-Guide
BEGIN:VTIMEZONE
TZID:Europe/Berlin
BEGIN:DAYLIGHT
TZOFFSETFROM:+0100
TZOFFSETTO:+0200
TZNAME:CEST
DTSTART:20240331T010000
END:DAYLIGHT
BEGIN:STANDARD
TZOFFSETFROM:+0200
TZOFFSETTO:+0100
TZNAME:CET
DTSTART:20241027T010000
END:STANDARD
END:VTIMEZONE
BEGIN:VEVENT
DTSTART;TZID=Europe/Berlin:20240217T140000
DTEND;TZID=Europe/Berlin:20240217T170000
DTSTAMP:20260421T144128
CREATED:20200108T210535Z
LAST-MODIFIED:20231117T205735Z
UID:420-1708178400-1708189200@jura-guide.com
SUMMARY:Bierige Winterwanderung
DESCRIPTION:Eine Entschleunigungs Winterwanderung der „leckeren“ Art. Alle Wanderfreunde\, die auch mal ein gutes Bier beim Wandern vertragen\, sollten diese tolle Bierwanderung nicht verpassen. Auf einer rund fünf Kilometer langen Nachmittagsrunde werden wir in den Genuss kommen\, regionale Biere in fröhlicher Wandergesellschaft und wunderschöner Landschaft zu verkosten. Es gibt Interessantes über die Herstellung von Bier sowie den regionalen Anbau der Bierzutaten zu erfahren. Regionales Bier von der Schwäbischen Alb kann bei unserem Event erwandert und verkostet werden. Ein Nachmittag füllender Genuss auf Schusters Rappen bringt Ihnen das Grundnahrungsmittel Bier näher. Weitere ProBiererla und ein leckerer Eintopf zum Thema Bier runden diesen Nachmittag ab. An unseren „ProBierTankstellen gibt es auch alkoholfreie Getränke. \n\n\n\nAnmeldung erforderlich!
URL:http://jura-guide.com/veranstaltung/bierige-winterwanderung/
LOCATION:Kohlberg\, 72664
CATEGORIES:Bieriger Albtraufgang,Genusswanderungen
ATTACH;FMTTYPE=image/jpeg:http://jura-guide.com/wp-content/uploads/2019/01/26232692_1909046895791301_2034597298146836800_o.jpg
ORGANIZER;CN="Schw%C3%A4bische%20Landpartie":MAILTO:info@schwaebische-landpartie.de
END:VEVENT
END:VCALENDAR