BEGIN:VCALENDAR
VERSION:2.0
PRODID:-//Jura-Guide - ECPv5.14.1//NONSGML v1.0//EN
CALSCALE:GREGORIAN
METHOD:PUBLISH
X-WR-CALNAME:Jura-Guide
X-ORIGINAL-URL:http://jura-guide.com
X-WR-CALDESC:Veranstaltungen für Jura-Guide
BEGIN:VTIMEZONE
TZID:Europe/Berlin
BEGIN:DAYLIGHT
TZOFFSETFROM:+0100
TZOFFSETTO:+0200
TZNAME:CEST
DTSTART:20210328T010000
END:DAYLIGHT
BEGIN:STANDARD
TZOFFSETFROM:+0200
TZOFFSETTO:+0100
TZNAME:CET
DTSTART:20211031T010000
END:STANDARD
END:VTIMEZONE
BEGIN:VEVENT
DTSTART;TZID=Europe/Berlin:20210529T130000
DTEND;TZID=Europe/Berlin:20210529T180000
DTSTAMP:20260421T125426
CREATED:20190109T211033Z
LAST-MODIFIED:20201107T195450Z
UID:357-1622293200-1622311200@jura-guide.com
SUMMARY:LandArt oder NaturKunschd
DESCRIPTION:Sich mit wachem Blick in die Natur begeben! Auf kleine und große Besonderheiten achten! Ein Gespür für die Ausstrahlung und die Kraft eines Ortes bekommen. Dies alles gehört genauso zu LandArt\, wie das eigentliche künstlerische Gestalten. Durch ein spielerisches Herangehen bekommen wir an diesem Tag ein starkes Gefühl für Formen und deren Kraft. \nUnter liebevoller Anleitung von Kunsttherapeutin Nadine Jedamski möchten wir Ihnen in diesem Workshop die wichtigsten Grundlagen dieser Ausdrucksform näher bringen. Sie dabei unterstützen\, selbst ein „LandArtwerk“ zu gestalten. Dabei geht es nicht um Perfektion oder Leistung\, sondern darum\, sich die Zeit zu nehmen\, Natur auf eine ganz besondere Weise zu erleben. Sie dürfen sich darauf einlassen in ein lustvolles\, spielerisches Gestalten zu kommen.
URL:http://jura-guide.com/veranstaltung/landart-oder-naturkunschd/
LOCATION:Neuffen\, 72639
CATEGORIES:Landart Naturkunschd
ATTACH;FMTTYPE=image/jpeg:http://jura-guide.com/wp-content/uploads/2019/01/DSCN4630.jpg
ORGANIZER;CN="Schw%C3%A4bische%20Landpartie":MAILTO:info@schwaebische-landpartie.de
END:VEVENT
END:VCALENDAR