BEGIN:VCALENDAR
VERSION:2.0
PRODID:-//Jura-Guide - ECPv5.14.1//NONSGML v1.0//EN
CALSCALE:GREGORIAN
METHOD:PUBLISH
X-WR-CALNAME:Jura-Guide
X-ORIGINAL-URL:http://jura-guide.com
X-WR-CALDESC:Veranstaltungen für Jura-Guide
BEGIN:VTIMEZONE
TZID:Europe/Berlin
BEGIN:DAYLIGHT
TZOFFSETFROM:+0100
TZOFFSETTO:+0200
TZNAME:CEST
DTSTART:20240331T010000
END:DAYLIGHT
BEGIN:STANDARD
TZOFFSETFROM:+0200
TZOFFSETTO:+0100
TZNAME:CET
DTSTART:20241027T010000
END:STANDARD
END:VTIMEZONE
BEGIN:VEVENT
DTSTART;TZID=Europe/Berlin:20240324T053000
DTEND;TZID=Europe/Berlin:20240324T083000
DTSTAMP:20260421T124304
CREATED:20190109T213021Z
LAST-MODIFIED:20231117T210111Z
UID:367-1711258200-1711269000@jura-guide.com
SUMMARY:Rutschenfels mal ganz anders
DESCRIPTION:Nix für Langschläfer! Wer einen Sonnenaufgang erleben will\, der muss früh aus den Federn springen. Sonnenaufgangstour zur Albkante bei Bad Urach. Unsere Tour geht über die Felder bis zum Albtrauf. An diesem Morgen möchten wir mit Ihnen die aufgehende Sonne\, die ersten Sonnenstrahlen des Tages und einen wunderbaren Ausblick genießen. Als kulinarischen Start in den Tag gibt es dann noch ein leckeres Frühstück unter freiem Himmel. \nWir wandern insgesamt ca. 6 km über die Albhochfläche und müssen keine Höhenmeter überwinden. Gutes Schuhwerk ist erforderlich.
URL:http://jura-guide.com/veranstaltung/rutschenfels-mal-ganz-anders/
LOCATION:St. Johann-Bleichstetten\, 72813
CATEGORIES:Genusswanderungen
ATTACH;FMTTYPE=image/jpeg:http://jura-guide.com/wp-content/uploads/2019/01/IMG_0728.jpg
ORGANIZER;CN="Schw%C3%A4bische%20Landpartie":MAILTO:info@schwaebische-landpartie.de
END:VEVENT
END:VCALENDAR