BEGIN:VCALENDAR
VERSION:2.0
PRODID:-//Jura-Guide - ECPv5.14.1//NONSGML v1.0//EN
CALSCALE:GREGORIAN
METHOD:PUBLISH
X-WR-CALNAME:Jura-Guide
X-ORIGINAL-URL:http://jura-guide.com
X-WR-CALDESC:Veranstaltungen für Jura-Guide
BEGIN:VTIMEZONE
TZID:Europe/Berlin
BEGIN:DAYLIGHT
TZOFFSETFROM:+0100
TZOFFSETTO:+0200
TZNAME:CEST
DTSTART:20240331T010000
END:DAYLIGHT
BEGIN:STANDARD
TZOFFSETFROM:+0200
TZOFFSETTO:+0100
TZNAME:CET
DTSTART:20241027T010000
END:STANDARD
END:VTIMEZONE
BEGIN:VEVENT
DTSTART;TZID=Europe/Berlin:20240508T183000
DTEND;TZID=Europe/Berlin:20240508T213000
DTSTAMP:20260421T124639
CREATED:20200111T210054Z
LAST-MODIFIED:20231117T210555Z
UID:427-1715193000-1715203800@jura-guide.com
SUMMARY:Sekt\, Charme und gute Laune
DESCRIPTION:…denn die Welt gehört dem\, der Sie genießt…(G.Leopardi) \nMan kann spazieren gehen\, ohne Sekt zu trinken. Man kann aber auch Sekt trinken\, ohne dabei spazieren zu gehen. Beides zusammen wird zu einem Genuss-Event der besonderen Art. \nWir verführen Sie zu einem prickelnden Spaziergang durch die heimischen Streuobstwiesen\, der nicht nur den Geschmacksinn anspricht\, sondern bei dem es auch viel Unnützes und Interessantes rund um das erfrischende und belebende Getränk zu hören gibt. \nDie Veranstaltung findet unter Einhaltung der geltenden Corona-Schutz- und Hygieneregeln statt.
URL:http://jura-guide.com/veranstaltung/sekt-charme-und-gute-laune/
LOCATION:Beuren\, 72660
CATEGORIES:Genusswanderungen
ORGANIZER;CN="Schw%C3%A4bische%20Landpartie":MAILTO:info@schwaebische-landpartie.de
END:VEVENT
END:VCALENDAR