BEGIN:VCALENDAR
VERSION:2.0
PRODID:-//Jura-Guide - ECPv5.14.1//NONSGML v1.0//EN
CALSCALE:GREGORIAN
METHOD:PUBLISH
X-WR-CALNAME:Jura-Guide
X-ORIGINAL-URL:http://jura-guide.com
X-WR-CALDESC:Veranstaltungen für Jura-Guide
BEGIN:VTIMEZONE
TZID:Europe/Berlin
BEGIN:DAYLIGHT
TZOFFSETFROM:+0100
TZOFFSETTO:+0200
TZNAME:CEST
DTSTART:20190331T010000
END:DAYLIGHT
BEGIN:STANDARD
TZOFFSETFROM:+0200
TZOFFSETTO:+0100
TZNAME:CET
DTSTART:20191027T010000
END:STANDARD
END:VTIMEZONE
BEGIN:VEVENT
DTSTART;TZID=Europe/Berlin:20190309T140000
DTEND;TZID=Europe/Berlin:20190309T170000
DTSTAMP:20260421T124439
CREATED:20190107T204153Z
LAST-MODIFIED:20190109T214528Z
UID:320-1552140000-1552150800@jura-guide.com
SUMMARY:Wandern und Entspannen eine Nachmittagstour aus der Reihe FrauenSpecial
DESCRIPTION:Entspannung mit und in der Natur! \nLassen Sie sich entführen zu einer ganz besonderen Gesundheitswanderung ab Neuffen. Wir wandern auf verborgenen Biosphären-Pfaden durch die wunderschöne Landschaft am Fuße des Hohenneuffen. Gesunder Körper durch gesunden Geist – Einklang mit Mensch und Natur gelebt an einem wunderschönen Nachmittag. \nMeditieren in der Natur hat eine ganz besondere Qualität. Auch einfache\, leichte Entspannungsübungen können – in freier Natur praktiziert – völlig positive Entwicklungen entstehen lassen. Die “Lebensfreude durch Gesundheitstour” ist geeignet für jedes Alter. Lassen Sie sich mit Spaß und Freude zu neuen Wegen führen. \nDie Gesundheitswanderung findet bei jeder Witterung statt. Bitte dem Wetter angepasste Kleidung sowie festes Schuhwerk tragen. \nAnmeldung: bis 06.März 2019 \nIch freue mich auf Euch!
URL:http://jura-guide.com/veranstaltung/wandern-und-entspannen-eine-nachmittagstour-aus-der-reihe-frauenspecial/
LOCATION:Neuffen\, 72639
CATEGORIES:Gesundheitswanderung,Meditationswanderung
ATTACH;FMTTYPE=image/jpeg:http://jura-guide.com/wp-content/uploads/2019/01/klangschale2.jpg
ORGANIZER;CN="Heimat-und%20Wanderakademie":MAILTO:akademie@schwaebischer-albverein.de
END:VEVENT
END:VCALENDAR