BEGIN:VCALENDAR
VERSION:2.0
PRODID:-//Jura-Guide - ECPv5.14.1//NONSGML v1.0//EN
CALSCALE:GREGORIAN
METHOD:PUBLISH
X-WR-CALNAME:Jura-Guide
X-ORIGINAL-URL:http://jura-guide.com
X-WR-CALDESC:Veranstaltungen für Jura-Guide
BEGIN:VTIMEZONE
TZID:Europe/Berlin
BEGIN:DAYLIGHT
TZOFFSETFROM:+0100
TZOFFSETTO:+0200
TZNAME:CEST
DTSTART:20250330T010000
END:DAYLIGHT
BEGIN:STANDARD
TZOFFSETFROM:+0200
TZOFFSETTO:+0100
TZNAME:CET
DTSTART:20251026T010000
END:STANDARD
END:VTIMEZONE
BEGIN:VEVENT
DTSTART;TZID=Europe/Berlin:20250913T153000
DTEND;TZID=Europe/Berlin:20250913T183000
DTSTAMP:20260422T034127
CREATED:20240412T073350Z
LAST-MODIFIED:20250125T192717Z
UID:571-1757777400-1757788200@jura-guide.com
SUMMARY:Hochgeprickelt auf hochgehsiedelt
DESCRIPTION:…denn die Welt gehört dem\, der Sie genießt…(G.Leopardi) \nMan kann spazieren gehen\, ohne Sekt zu trinken. Man kann aber auch Sekt trinken\, ohne dabei spazieren zu gehen. Beides zusammen wird zu einem Genuss-Event der besonderen Art. \nWir verführen Sie zu einem prickelnden Spaziergang am Albtrauf\, der nicht nur den Geschmacksinn anspricht\, sondern bei dem es auch viel Unnützes und Interessantes rund um das erfrischende und belebende Getränk zu hören gibt. \n  \n  \n 
URL:http://jura-guide.com/veranstaltung/hochgeprickelt-auf-hochgehsiedelt/
LOCATION:Hülben
ATTACH;FMTTYPE=image/jpeg:http://jura-guide.com/wp-content/uploads/2025/01/e7968f1f-dfcd-4c0e-84b8-756c0894e442.jpg
ORGANIZER;CN="Jura%20Guide":MAILTO:jura-guide@gmx.com
END:VEVENT
END:VCALENDAR