BEGIN:VCALENDAR
VERSION:2.0
PRODID:-//Jura-Guide - ECPv5.14.1//NONSGML v1.0//EN
CALSCALE:GREGORIAN
METHOD:PUBLISH
X-WR-CALNAME:Jura-Guide
X-ORIGINAL-URL:http://jura-guide.com
X-WR-CALDESC:Veranstaltungen für Jura-Guide
BEGIN:VTIMEZONE
TZID:Europe/Berlin
BEGIN:DAYLIGHT
TZOFFSETFROM:+0100
TZOFFSETTO:+0200
TZNAME:CEST
DTSTART:20260329T010000
END:DAYLIGHT
BEGIN:STANDARD
TZOFFSETFROM:+0200
TZOFFSETTO:+0100
TZNAME:CET
DTSTART:20261025T010000
END:STANDARD
END:VTIMEZONE
BEGIN:VEVENT
DTSTART;TZID=Europe/Berlin:20260618T170000
DTEND;TZID=Europe/Berlin:20260618T200000
DTSTAMP:20260421T172755
CREATED:20250116T215736Z
LAST-MODIFIED:20260119T212553Z
UID:588-1781802000-1781812800@jura-guide.com
SUMMARY:gekrönt\, beflügelt und entspannt
DESCRIPTION:FrauenSpecial  – mit dem Schwäbischen Albverein\n\n\n\n \n\n\n\nSind wir Frauen nicht alle Engel ohne Flügel? \nBei dieser Nachmittagsrunde werden wir die Natur mit allen Sinnen genießen\, mit anderen flügellosen Engeln entspannt spazieren gehen und dabei die Seele baumeln lassen.\nDiese Tour ist nur für Frauen geeignet. \n\n\n\nBitte bringen Sie ein Sitzkissen und die schönste Tasse aus Ihrem Schrank mit\, denn eine kleine Teezeremonie mit Gebäck rundet das Bad der Sinne ab. \nBitte denken Sie an Getränke für unterwegs\, witterungsangepasste Kleidung\, Sonnenschutz und Wanderschuhe. \n\n  \n  \nTeilnehmerbeitrag: für Mitglieder des Schwäbischen Albvereins kostenlos\, für Nichtmitglieder 9 €\nZusätzliche Kosten: für die Teezeremonie 8 € pro Person.\nZur Info: Die anfallenden Kosten werden vom Wanderführer / der Wanderführerin vor Ort eingesammelt. \nAnmeldung: erforderlich bis zum 14.Juni 2026 \nKontakt: Regine Erb \nTel: 07025 843655 oder mail: jura-guide@gmx.com \n 
URL:http://jura-guide.com/veranstaltung/gekroent-befluegelt-und-entspannt/
LOCATION:Frickenhausen\, Frickenhausen
CATEGORIES:Entspannungswanderung,Meditationswanderung
ORGANIZER;CN="Heimat-und%20Wanderakademie":MAILTO:akademie@schwaebischer-albverein.de
END:VEVENT
END:VCALENDAR